BEGIN:VCALENDAR
VERSION:2.0
PRODID:-//Dutch Church - ECPv6.15.20//NONSGML v1.0//EN
CALSCALE:GREGORIAN
METHOD:PUBLISH
X-WR-CALNAME:Dutch Church
X-ORIGINAL-URL:https://dutchchurch.org.uk
X-WR-CALDESC:Evenementen voor Dutch Church
REFRESH-INTERVAL;VALUE=DURATION:PT1H
X-Robots-Tag:noindex
X-PUBLISHED-TTL:PT1H
BEGIN:VTIMEZONE
TZID:Europe/London
BEGIN:DAYLIGHT
TZOFFSETFROM:+0000
TZOFFSETTO:+0100
TZNAME:BST
DTSTART:20250330T010000
END:DAYLIGHT
BEGIN:STANDARD
TZOFFSETFROM:+0100
TZOFFSETTO:+0000
TZNAME:GMT
DTSTART:20251026T010000
END:STANDARD
BEGIN:DAYLIGHT
TZOFFSETFROM:+0000
TZOFFSETTO:+0100
TZNAME:BST
DTSTART:20260329T010000
END:DAYLIGHT
BEGIN:STANDARD
TZOFFSETFROM:+0100
TZOFFSETTO:+0000
TZNAME:GMT
DTSTART:20261025T010000
END:STANDARD
BEGIN:DAYLIGHT
TZOFFSETFROM:+0000
TZOFFSETTO:+0100
TZNAME:BST
DTSTART:20270328T010000
END:DAYLIGHT
BEGIN:STANDARD
TZOFFSETFROM:+0100
TZOFFSETTO:+0000
TZNAME:GMT
DTSTART:20271031T010000
END:STANDARD
END:VTIMEZONE
BEGIN:VEVENT
DTSTART;TZID=Europe/London:20260528T150000
DTEND;TZID=Europe/London:20260528T160000
DTSTAMP:20260420T100017
CREATED:20260327T082921Z
LAST-MODIFIED:20260327T082921Z
UID:30174-1779980400-1779984000@dutchchurch.org.uk
SUMMARY:Zoom Tea-Break
DESCRIPTION:Elke donderdag om 15:00 uur\, open voor allen. Geef je op bij: office@dutchchurch.org.uk
URL:https://dutchchurch.org.uk/event/zoom-tea-break-13/
LOCATION:Dutch Church\, 7 Austin Friars\, London EC2N 2HA\, United Kingdom
ATTACH;FMTTYPE=image/png:https://dutchchurch.org.uk/wp-content/uploads/2023/05/zoom-e1684766827701.png
END:VEVENT
BEGIN:VEVENT
DTSTART;TZID=Europe/London:20260531T110000
DTEND;TZID=Europe/London:20260531T120000
DTSTAMP:20260420T100017
CREATED:20260326T163423Z
LAST-MODIFIED:20260326T163754Z
UID:30142-1780225200-1780228800@dutchchurch.org.uk
SUMMARY:Trinitatis\, predikant Henk Leegte
DESCRIPTION:Trinitatis\, wit; Ds. Henk Leegte (Amsterdam)
URL:https://dutchchurch.org.uk/event/trinitatis-predikant-henk-leegte/
LOCATION:Dutch Church\, 7 Austin Friars\, London EC2N 2HA\, United Kingdom
ATTACH;FMTTYPE=image/png:https://dutchchurch.org.uk/wp-content/uploads/2023/05/Henk-e1684766190872.png
END:VEVENT
BEGIN:VEVENT
DTSTART;TZID=Europe/London:20260607T110000
DTEND;TZID=Europe/London:20260809T133000
DTSTAMP:20260420T100017
CREATED:20260326T164106Z
LAST-MODIFIED:20260326T164106Z
UID:30144-1780830000-1786282200@dutchchurch.org.uk
SUMMARY:1e zondag na Trinitatis\, predikant Bertjan van de Lagemaat
DESCRIPTION:1e zondag na Trinitatis\, groen – Maaltijd van de Heer; aansluitend lunch en Gemeenteberaad! Ds. Bertjan van de Lagemaat \n 
URL:https://dutchchurch.org.uk/event/1e-zondag-na-trinitatis-predikant-bertjan-van-de-lagemaat/
LOCATION:Dutch Church\, 7 Austin Friars\, London EC2N 2HA\, United Kingdom
ATTACH;FMTTYPE=image/png:https://dutchchurch.org.uk/wp-content/uploads/2023/05/Bertjan1-e1684766967631.png
END:VEVENT
BEGIN:VEVENT
DTSTART;TZID=Europe/London:20260924T190000
DTEND;TZID=Europe/London:20260924T203000
DTSTAMP:20260420T100017
CREATED:20260131T152656Z
LAST-MODIFIED:20260316T125012Z
UID:29706-1790276400-1790281800@dutchchurch.org.uk
SUMMARY:Dutch Church/Dutch Centre - Geert Mak: Een verbrijzeld Europees droombeeld?
DESCRIPTION:Tickets: www.dutchcentre.com (evenement in het Nederlands); deuren open 18.30
URL:https://dutchchurch.org.uk/event/dtuch-church-dutch-centre-geert-mak-een-verbrijzeld-europees-droombeeld/
LOCATION:Dutch Centre\, 7 Austin Friars \, London \, EC2N 2HA \, Verenigd Koninkrijk
ATTACH;FMTTYPE=image/jpeg:https://dutchchurch.org.uk/wp-content/uploads/2026/01/I1377-Geert-Mak-27.01.26-copy-e1769872169214.jpeg
END:VEVENT
END:VCALENDAR